BEGIN:VCALENDAR
VERSION:2.0
PRODID:-//Allendale Strong - ECPv6.15.20//NONSGML v1.0//EN
CALSCALE:GREGORIAN
METHOD:PUBLISH
X-WR-CALNAME:Allendale Strong
X-ORIGINAL-URL:https://allendalestrong.org
X-WR-CALDESC:Events for Allendale Strong
REFRESH-INTERVAL;VALUE=DURATION:PT1H
X-Robots-Tag:noindex
X-PUBLISHED-TTL:PT1H
BEGIN:VTIMEZONE
TZID:America/Chicago
BEGIN:DAYLIGHT
TZOFFSETFROM:-0600
TZOFFSETTO:-0500
TZNAME:CDT
DTSTART:20220313T080000
END:DAYLIGHT
BEGIN:STANDARD
TZOFFSETFROM:-0500
TZOFFSETTO:-0600
TZNAME:CST
DTSTART:20221106T070000
END:STANDARD
BEGIN:DAYLIGHT
TZOFFSETFROM:-0600
TZOFFSETTO:-0500
TZNAME:CDT
DTSTART:20230312T080000
END:DAYLIGHT
BEGIN:STANDARD
TZOFFSETFROM:-0500
TZOFFSETTO:-0600
TZNAME:CST
DTSTART:20231105T070000
END:STANDARD
BEGIN:DAYLIGHT
TZOFFSETFROM:-0600
TZOFFSETTO:-0500
TZNAME:CDT
DTSTART:20240310T080000
END:DAYLIGHT
BEGIN:STANDARD
TZOFFSETFROM:-0500
TZOFFSETTO:-0600
TZNAME:CST
DTSTART:20241103T070000
END:STANDARD
END:VTIMEZONE
BEGIN:VEVENT
DTSTART;TZID=America/Chicago:20230413T183000
DTEND;TZID=America/Chicago:20230413T200000
DTSTAMP:20260421T074949
CREATED:20230411T215024Z
LAST-MODIFIED:20230614T164407Z
UID:882-1681410600-1681416000@allendalestrong.org
SUMMARY:AllendaleStrong Monthly Meeting
DESCRIPTION:Join us for our monthly meetings on the 2nd Thursday of each month\, 6:30 – 8 PM at 1515 Clay Street. \nWe will meet this Thursday April 13th\, 6:30 PM at the Friendship House\, 1515 Clay Street. The following are suggested agenda items for our meeting:\n\n\nWelcome and attendee self-introductions…Dorothy Wiley \nUrban3 progress updates after March 13 & 14.presentation.\nNLCOG update…John Perkins\nTransportation Planning Reform…\n\nPresenting conflicts between city and transportation planning and starting conversations about thinking and doing differently…Kim & Danielle. \nLa. 4-Corners Coalition…updates…see Strong Towns March 13\, 2023 article about 4-CC: Advocates Across the State Convene to Un-Stroad Louisiana\n\nStrong Towns National Conference presentation…Dorothy\, Danielle\, Kim…\n\n\nFreeway Fighters Network… participation in this national group\n\n\nMural Celebration committee update… Rebecca Thomas\nAllendale History Project update…Laura McLemore\nSWEPCO Park…\nFood Co-op…\nHome & Business ownership...renewing the neighborhood through citizen leadership and incremental development.\n\nFeedback from Caddo Parish Community Housing Forum on 4.13.23…Dorothy attending at Steven Jackson invitation…discuss follow up letter content.\n\n\nShare your thoughts about 2023…Where are we going? How will we get there?\n\n\n\n\nTwo events prior to our meeting on Thursday are:\n\n\n5 PM Zoom meeting with the Food Co-op Initiative peer group of startups we participate in. Members of our Corner Store Co-op are invited to attend the hour long Zoom.\n5:30 PM Caddo Parish Community Housing Forum at Valencia Park\, 1800 Viking Drive. Caddo Parish is seeking citizen input for their housing policies and programs. Dorothy will represent Allendale Strong. If you are interested please join her there and at our AS monthly meeting at 6:30 PM.\n\n\nIf you have questions or additional items to discuss please bring them with you to our meeting. We look forward to seeing you on Thursday\, April 13th at 6:30 PM. \n \nThank you for supporting and participating in Allendale Strong!\n\nSee you Thursday.
URL:https://allendalestrong.org/event/allendalestrong-monthly-meeting-2/
LOCATION:Allendale Friendship House\, 1515 Clay Street\, Shreveport\, LA\, United States
CATEGORIES:Loop It 49 Learning-Doing Group
ATTACH;FMTTYPE=image/png:https://allendalestrong.org/wp-content/uploads/2021/06/cropped-2021-Allendale-Strong-LOGO-full-color-1.png
END:VEVENT
END:VCALENDAR