BEGIN:VCALENDAR
VERSION:2.0
PRODID:-//Allendale Strong - ECPv6.15.20//NONSGML v1.0//EN
CALSCALE:GREGORIAN
METHOD:PUBLISH
X-ORIGINAL-URL:https://allendalestrong.org
X-WR-CALDESC:Events for Allendale Strong
REFRESH-INTERVAL;VALUE=DURATION:PT1H
X-Robots-Tag:noindex
X-PUBLISHED-TTL:PT1H
BEGIN:VTIMEZONE
TZID:America/Chicago
BEGIN:DAYLIGHT
TZOFFSETFROM:-0600
TZOFFSETTO:-0500
TZNAME:CDT
DTSTART:20210314T080000
END:DAYLIGHT
BEGIN:STANDARD
TZOFFSETFROM:-0500
TZOFFSETTO:-0600
TZNAME:CST
DTSTART:20211107T070000
END:STANDARD
BEGIN:DAYLIGHT
TZOFFSETFROM:-0600
TZOFFSETTO:-0500
TZNAME:CDT
DTSTART:20220313T080000
END:DAYLIGHT
BEGIN:STANDARD
TZOFFSETFROM:-0500
TZOFFSETTO:-0600
TZNAME:CST
DTSTART:20221106T070000
END:STANDARD
BEGIN:DAYLIGHT
TZOFFSETFROM:-0600
TZOFFSETTO:-0500
TZNAME:CDT
DTSTART:20230312T080000
END:DAYLIGHT
BEGIN:STANDARD
TZOFFSETFROM:-0500
TZOFFSETTO:-0600
TZNAME:CST
DTSTART:20231105T070000
END:STANDARD
END:VTIMEZONE
BEGIN:VEVENT
DTSTART;TZID=America/Chicago:20220216T100000
DTEND;TZID=America/Chicago:20220216T110000
DTSTAMP:20260421T060607
CREATED:20220210T163920Z
LAST-MODIFIED:20220210T164248Z
UID:695-1645005600-1645009200@allendalestrong.org
SUMMARY:SWEPCO Park Committee Zoom
DESCRIPTION:Email kmitchellarchitect@gmail.com for the zoom link to join
URL:https://allendalestrong.org/event/swepco-park-committee-zoom/
CATEGORIES:SWEPCO Park Learning-Doing Group
END:VEVENT
BEGIN:VEVENT
DTSTART;TZID=America/Chicago:20220304T110000
DTEND;TZID=America/Chicago:20220304T140000
DTSTAMP:20260421T060607
CREATED:20220301T191732Z
LAST-MODIFIED:20220301T191732Z
UID:715-1646391600-1646402400@allendalestrong.org
SUMMARY:Annual Lenten Fish Fry at Our Lady of the Blessed Sacrament Catholic Church
DESCRIPTION:(Fridays During Lent) \nFriday\, March 4\, 2022-Good Friday\, April 15\, 2022 \n11:00 a.m. – 2:00 p.m. \nDinners are $10.00 \nCatfish Filet\, Potato Salad\, Green Beans\, Bread\, Tartar Sauce & \nDesert \n***EAT IN/TAKE OUT*** \nOLBS Community Center \n1558 Buena Vista Street \nShreveport\, LA \nTelephone: 318-222-3790 (Information/Deliveries)
URL:https://allendalestrong.org/event/annual-lenten-fish-fry-at-our-lady-of-the-blessed-sacrament-catholic-church/
LOCATION:Our Lady of the Blessed Sacrament Catholic Church\, 1558 Buena Vista Street \, Shreveport\, LA\, 71101\, United States
ATTACH;FMTTYPE=image/png:https://allendalestrong.org/wp-content/uploads/2022/03/2022-Blessed-Sacrament-Lenten-Fish-Fry-crop.png
END:VEVENT
BEGIN:VEVENT
DTSTART;TZID=America/Chicago:20220113T183000
DTEND;TZID=America/Chicago:20220113T200000
DTSTAMP:20260421T060607
CREATED:20220119T171009Z
LAST-MODIFIED:20220119T171009Z
UID:671-1642098600-1642104000@allendalestrong.org
SUMMARY:AllendaleStrong Monthly Zoom Meeting
DESCRIPTION:Email kmitchellarchitect@gmail.com for the zoom link.
URL:https://allendalestrong.org/event/allendalestrong-monthly-zoom-meeting-11/
END:VEVENT
BEGIN:VEVENT
DTSTART;TZID=America/Chicago:20220309T093000
DTEND;TZID=America/Chicago:20220309T170000
DTSTAMP:20260421T060607
CREATED:20220125T220051Z
LAST-MODIFIED:20220125T220051Z
UID:685-1646818200-1646845200@allendalestrong.org
SUMMARY:NLCOG Board of Directors Meeting
DESCRIPTION:625 Texas Street Shreveport\, LA 71101
URL:https://allendalestrong.org/event/nlcog-board-of-directors-meeting/
CATEGORIES:Loop It 49 Learning-Doing Group
END:VEVENT
BEGIN:VEVENT
DTSTART;TZID=America/Chicago:20220216T100000
DTEND;TZID=America/Chicago:20220216T110000
DTSTAMP:20260421T060607
CREATED:20220210T163920Z
LAST-MODIFIED:20220210T164248Z
UID:695-1645005600-1645009200@allendalestrong.org
SUMMARY:SWEPCO Park Committee Zoom
DESCRIPTION:Email kmitchellarchitect@gmail.com for the zoom link to join
URL:https://allendalestrong.org/event/swepco-park-committee-zoom/
CATEGORIES:SWEPCO Park Learning-Doing Group
END:VEVENT
BEGIN:VEVENT
DTSTART;TZID=America/Chicago:20220304T110000
DTEND;TZID=America/Chicago:20220304T140000
DTSTAMP:20260421T060607
CREATED:20220301T191732Z
LAST-MODIFIED:20220301T191732Z
UID:715-1646391600-1646402400@allendalestrong.org
SUMMARY:Annual Lenten Fish Fry at Our Lady of the Blessed Sacrament Catholic Church
DESCRIPTION:(Fridays During Lent) \nFriday\, March 4\, 2022-Good Friday\, April 15\, 2022 \n11:00 a.m. – 2:00 p.m. \nDinners are $10.00 \nCatfish Filet\, Potato Salad\, Green Beans\, Bread\, Tartar Sauce & \nDesert \n***EAT IN/TAKE OUT*** \nOLBS Community Center \n1558 Buena Vista Street \nShreveport\, LA \nTelephone: 318-222-3790 (Information/Deliveries)
URL:https://allendalestrong.org/event/annual-lenten-fish-fry-at-our-lady-of-the-blessed-sacrament-catholic-church/
LOCATION:Our Lady of the Blessed Sacrament Catholic Church\, 1558 Buena Vista Street \, Shreveport\, LA\, 71101\, United States
ATTACH;FMTTYPE=image/png:https://allendalestrong.org/wp-content/uploads/2022/03/2022-Blessed-Sacrament-Lenten-Fish-Fry-crop.png
END:VEVENT
BEGIN:VEVENT
DTSTART;TZID=America/Chicago:20220216T100000
DTEND;TZID=America/Chicago:20220216T110000
DTSTAMP:20260421T060607
CREATED:20220210T163920Z
LAST-MODIFIED:20220210T164248Z
UID:695-1645005600-1645009200@allendalestrong.org
SUMMARY:SWEPCO Park Committee Zoom
DESCRIPTION:Email kmitchellarchitect@gmail.com for the zoom link to join
URL:https://allendalestrong.org/event/swepco-park-committee-zoom/
CATEGORIES:SWEPCO Park Learning-Doing Group
END:VEVENT
BEGIN:VEVENT
DTSTART;TZID=America/Chicago:20220316T151000
DTEND;TZID=America/Chicago:20220316T161000
DTSTAMP:20260421T060607
CREATED:20220311T004806Z
LAST-MODIFIED:20220311T012549Z
UID:726-1647443400-1647447000@allendalestrong.org
SUMMARY:Urban League Panel
DESCRIPTION:Dorothy Wiley and Amy Stelly will participate in an Urban League panel moderated by Representative Cedric Glover.  \nClick here to sign up for the Zoom session. \n 
URL:https://allendalestrong.org/event/urban-league-panel/
CATEGORIES:Loop It 49 Learning-Doing Group
ATTACH;FMTTYPE=image/png:https://allendalestrong.org/wp-content/uploads/2022/03/0316-Polcon-2022_20220222150803314312.png
END:VEVENT
BEGIN:VEVENT
DTSTART;TZID=America/Chicago:20220304T110000
DTEND;TZID=America/Chicago:20220304T140000
DTSTAMP:20260421T060607
CREATED:20220301T191732Z
LAST-MODIFIED:20220301T191732Z
UID:715-1646391600-1646402400@allendalestrong.org
SUMMARY:Annual Lenten Fish Fry at Our Lady of the Blessed Sacrament Catholic Church
DESCRIPTION:(Fridays During Lent) \nFriday\, March 4\, 2022-Good Friday\, April 15\, 2022 \n11:00 a.m. – 2:00 p.m. \nDinners are $10.00 \nCatfish Filet\, Potato Salad\, Green Beans\, Bread\, Tartar Sauce & \nDesert \n***EAT IN/TAKE OUT*** \nOLBS Community Center \n1558 Buena Vista Street \nShreveport\, LA \nTelephone: 318-222-3790 (Information/Deliveries)
URL:https://allendalestrong.org/event/annual-lenten-fish-fry-at-our-lady-of-the-blessed-sacrament-catholic-church/
LOCATION:Our Lady of the Blessed Sacrament Catholic Church\, 1558 Buena Vista Street \, Shreveport\, LA\, 71101\, United States
ATTACH;FMTTYPE=image/png:https://allendalestrong.org/wp-content/uploads/2022/03/2022-Blessed-Sacrament-Lenten-Fish-Fry-crop.png
END:VEVENT
BEGIN:VEVENT
DTSTART;TZID=America/Chicago:20220216T100000
DTEND;TZID=America/Chicago:20220216T110000
DTSTAMP:20260421T060607
CREATED:20220210T163920Z
LAST-MODIFIED:20220210T164248Z
UID:695-1645005600-1645009200@allendalestrong.org
SUMMARY:SWEPCO Park Committee Zoom
DESCRIPTION:Email kmitchellarchitect@gmail.com for the zoom link to join
URL:https://allendalestrong.org/event/swepco-park-committee-zoom/
CATEGORIES:SWEPCO Park Learning-Doing Group
END:VEVENT
BEGIN:VEVENT
DTSTART;TZID=America/Chicago:20220304T110000
DTEND;TZID=America/Chicago:20220304T140000
DTSTAMP:20260421T060607
CREATED:20220301T191732Z
LAST-MODIFIED:20220301T191732Z
UID:715-1646391600-1646402400@allendalestrong.org
SUMMARY:Annual Lenten Fish Fry at Our Lady of the Blessed Sacrament Catholic Church
DESCRIPTION:(Fridays During Lent) \nFriday\, March 4\, 2022-Good Friday\, April 15\, 2022 \n11:00 a.m. – 2:00 p.m. \nDinners are $10.00 \nCatfish Filet\, Potato Salad\, Green Beans\, Bread\, Tartar Sauce & \nDesert \n***EAT IN/TAKE OUT*** \nOLBS Community Center \n1558 Buena Vista Street \nShreveport\, LA \nTelephone: 318-222-3790 (Information/Deliveries)
URL:https://allendalestrong.org/event/annual-lenten-fish-fry-at-our-lady-of-the-blessed-sacrament-catholic-church/
LOCATION:Our Lady of the Blessed Sacrament Catholic Church\, 1558 Buena Vista Street \, Shreveport\, LA\, 71101\, United States
ATTACH;FMTTYPE=image/png:https://allendalestrong.org/wp-content/uploads/2022/03/2022-Blessed-Sacrament-Lenten-Fish-Fry-crop.png
END:VEVENT
BEGIN:VEVENT
DTSTART;TZID=America/Chicago:20220216T100000
DTEND;TZID=America/Chicago:20220216T110000
DTSTAMP:20260421T060607
CREATED:20220210T163920Z
LAST-MODIFIED:20220210T164248Z
UID:695-1645005600-1645009200@allendalestrong.org
SUMMARY:SWEPCO Park Committee Zoom
DESCRIPTION:Email kmitchellarchitect@gmail.com for the zoom link to join
URL:https://allendalestrong.org/event/swepco-park-committee-zoom/
CATEGORIES:SWEPCO Park Learning-Doing Group
END:VEVENT
END:VCALENDAR